BEGIN:VCALENDAR
VERSION:2.0
PRODID:-//Trang tin nội bộ của Kaopiz Holdings - ECPv6.2.5//NONSGML v1.0//EN
CALSCALE:GREGORIAN
METHOD:PUBLISH
X-WR-CALNAME:Trang tin nội bộ của Kaopiz Holdings
X-ORIGINAL-URL:https://news.kaopiz.com
X-WR-CALDESC:Events for Trang tin nội bộ của Kaopiz Holdings
REFRESH-INTERVAL;VALUE=DURATION:PT1H
X-Robots-Tag:noindex
X-PUBLISHED-TTL:PT1H
BEGIN:VTIMEZONE
TZID:Asia/Krasnoyarsk
BEGIN:STANDARD
TZOFFSETFROM:+0700
TZOFFSETTO:+0700
TZNAME:+07
DTSTART:20240101T000000
END:STANDARD
END:VTIMEZONE
BEGIN:VEVENT
DTSTART;TZID=Asia/Krasnoyarsk:20240801T093000
DTEND;TZID=Asia/Krasnoyarsk:20240801T140000
DTSTAMP:20260422T041500
CREATED:20240801T062428Z
LAST-MODIFIED:20240926T062613Z
UID:10000019-1722504600-1722520800@news.kaopiz.com
SUMMARY:Lễ khởi công xây dựng phòng học - Dự án Unleash The Future 2024
DESCRIPTION:Nếu thấy hay\, hãy thả một like nhé!                                                                                                                                                            0                                                                                                                                                                                                                                                    0                                                                                                                                                                                                                                                    0                                                                                                                                                                                                                                                    0                                                                                                                                                                                                                                                    0                                                                                                                                                                                                                                                    0                                                                                                                                                                                                                                                    0
URL:https://news.kaopiz.com/event/le-khoi-cong-xay-dung-phong-hoc-du-an-unleash-the-future-2024/
LOCATION:Trường tiểu học xã Vân An\, huyện Chi Lăng\, tỉnh Lạng Sơn
ATTACH;FMTTYPE=image/jpeg:https://news.kaopiz.com/wp-content/uploads/2024/09/z5682625455718_e62966f5f02e2c880ebd67db53e63410.jpg
END:VEVENT
END:VCALENDAR