BEGIN:VCALENDAR
VERSION:2.0
PRODID:-//Trang tin nội bộ của Kaopiz Holdings - ECPv6.2.5//NONSGML v1.0//EN
CALSCALE:GREGORIAN
METHOD:PUBLISH
X-WR-CALNAME:Trang tin nội bộ của Kaopiz Holdings
X-ORIGINAL-URL:https://news.kaopiz.com
X-WR-CALDESC:Events for Trang tin nội bộ của Kaopiz Holdings
REFRESH-INTERVAL;VALUE=DURATION:PT1H
X-Robots-Tag:noindex
X-PUBLISHED-TTL:PT1H
BEGIN:VTIMEZONE
TZID:Asia/Krasnoyarsk
BEGIN:STANDARD
TZOFFSETFROM:+0700
TZOFFSETTO:+0700
TZNAME:+07
DTSTART:20250101T000000
END:STANDARD
END:VTIMEZONE
BEGIN:VEVENT
DTSTART;TZID=Asia/Krasnoyarsk:20250404T173000
DTEND;TZID=Asia/Krasnoyarsk:20250404T190000
DTSTAMP:20260421T141723
CREATED:20250404T092755Z
LAST-MODIFIED:20250404T092755Z
UID:10000031-1743787800-1743793200@news.kaopiz.com
SUMMARY:FESTIBAY - Ngày anh em Kaopiz
DESCRIPTION:Nếu thấy hay\, hãy thả một like nhé!                                                                                                                                                            0                                                                                                                                                                                                                                                    0                                                                                                                                                                                                                                                    0                                                                                                                                                                                                                                                    0                                                                                                                                                                                                                                                    0                                                                                                                                                                                                                                                    0                                                                                                                                                                                                                                                    0
URL:https://news.kaopiz.com/event/festibay-ngay-anh-em-kaopiz/
LOCATION:Phòng INFINITY
ATTACH;FMTTYPE=image/jpeg:https://news.kaopiz.com/wp-content/uploads/2025/04/z6473386565938_ef6c92c5b0f267034a7005f0c57a0c82.jpg
END:VEVENT
END:VCALENDAR