BEGIN:VCALENDAR
VERSION:2.0
PRODID:-//Trang tin nội bộ của Kaopiz Holdings - ECPv6.2.5//NONSGML v1.0//EN
CALSCALE:GREGORIAN
METHOD:PUBLISH
X-ORIGINAL-URL:https://news.kaopiz.com
X-WR-CALDESC:Events for Trang tin nội bộ của Kaopiz Holdings
REFRESH-INTERVAL;VALUE=DURATION:PT1H
X-Robots-Tag:noindex
X-PUBLISHED-TTL:PT1H
BEGIN:VTIMEZONE
TZID:Asia/Krasnoyarsk
BEGIN:STANDARD
TZOFFSETFROM:+0700
TZOFFSETTO:+0700
TZNAME:+07
DTSTART:20250101T000000
END:STANDARD
END:VTIMEZONE
BEGIN:VEVENT
DTSTART;TZID=Asia/Krasnoyarsk:20250412T090000
DTEND;TZID=Asia/Krasnoyarsk:20250412T120000
DTSTAMP:20260421T143036
CREATED:20250403T103233Z
LAST-MODIFIED:20250404T065651Z
UID:10000029-1744448400-1744459200@news.kaopiz.com
SUMMARY:Database: ACID and Concurrency Control
DESCRIPTION:Nếu thấy hay\, hãy thả một like nhé!                                                                                                                                                            0                                                                                                                                                                                                                                                    0                                                                                                                                                                                                                                                    0                                                                                                                                                                                                                                                    0                                                                                                                                                                                                                                                    0                                                                                                                                                                                                                                                    0                                                                                                                                                                                                                                                    0
URL:https://news.kaopiz.com/event/database-acid-and-concurrency-control/
LOCATION:Phòng Stackoverflow
ATTACH;FMTTYPE=image/png:https://news.kaopiz.com/wp-content/uploads/2025/04/2.png
END:VEVENT
END:VCALENDAR