BEGIN:VCALENDAR
VERSION:2.0
PRODID:-//Trang tin nội bộ của Kaopiz Holdings - ECPv6.2.5//NONSGML v1.0//EN
CALSCALE:GREGORIAN
METHOD:PUBLISH
X-ORIGINAL-URL:https://news.kaopiz.com
X-WR-CALDESC:Events for Trang tin nội bộ của Kaopiz Holdings
REFRESH-INTERVAL;VALUE=DURATION:PT1H
X-Robots-Tag:noindex
X-PUBLISHED-TTL:PT1H
BEGIN:VTIMEZONE
TZID:Asia/Krasnoyarsk
BEGIN:STANDARD
TZOFFSETFROM:+0700
TZOFFSETTO:+0700
TZNAME:+07
DTSTART:20250101T000000
END:STANDARD
END:VTIMEZONE
BEGIN:VEVENT
DTSTART;VALUE=DATE:20250929
DTEND;VALUE=DATE:20250930
DTSTAMP:20260421T032712
CREATED:20250926T084440Z
LAST-MODIFIED:20250926T084440Z
UID:10000040-1759104000-1759190399@news.kaopiz.com
SUMMARY:Kaopiz 11th Birthday
DESCRIPTION:Nếu thấy hay\, hãy thả một like nhé!                                                                                                                                                            0                                                                                                                                                                                                                                                    0                                                                                                                                                                                                                                                    0                                                                                                                                                                                                                                                    0                                                                                                                                                                                                                                                    0                                                                                                                                                                                                                                                    0                                                                                                                                                                                                                                                    0
URL:https://news.kaopiz.com/event/kaopiz-11th-birthday/
ATTACH;FMTTYPE=image/png:https://news.kaopiz.com/wp-content/uploads/2025/09/TV-KHN-scaled.png
END:VEVENT
END:VCALENDAR