BEGIN:VCALENDAR
VERSION:2.0
PRODID:-//Trang tin nội bộ của Kaopiz Holdings - ECPv6.2.5//NONSGML v1.0//EN
CALSCALE:GREGORIAN
METHOD:PUBLISH
X-WR-CALNAME:Trang tin nội bộ của Kaopiz Holdings
X-ORIGINAL-URL:https://news.kaopiz.com
X-WR-CALDESC:Events for Trang tin nội bộ của Kaopiz Holdings
REFRESH-INTERVAL;VALUE=DURATION:PT1H
X-Robots-Tag:noindex
X-PUBLISHED-TTL:PT1H
BEGIN:VTIMEZONE
TZID:Asia/Krasnoyarsk
BEGIN:STANDARD
TZOFFSETFROM:+0700
TZOFFSETTO:+0700
TZNAME:+07
DTSTART:20260101T000000
END:STANDARD
END:VTIMEZONE
BEGIN:VEVENT
DTSTART;TZID=Asia/Krasnoyarsk:20260102T180000
DTEND;TZID=Asia/Krasnoyarsk:20260102T220000
DTSTAMP:20260420T215412
CREATED:20251215T040803Z
LAST-MODIFIED:20251215T040803Z
UID:10000043-1767376800-1767391200@news.kaopiz.com
SUMMARY:New Year Party 2026 - Beyond Expectations
DESCRIPTION:Nếu thấy hay\, hãy thả một like nhé!                                                                                                                                                            0                                                                                                                                                                                                                                                    0                                                                                                                                                                                                                                                    0                                                                                                                                                                                                                                                    0                                                                                                                                                                                                                                                    0                                                                                                                                                                                                                                                    0                                                                                                                                                                                                                                                    0
URL:https://news.kaopiz.com/event/new-year-party-2026-beyond-expectations/
LOCATION:Hội trường Dubai – Tầng 3\, Nhà hàng Louis Palace\, Km5+200\, Đ. Lê Trọng Tấn\, Phường Tây Mỗ\, Hà Nội
ATTACH;FMTTYPE=image/jpeg:https://news.kaopiz.com/wp-content/uploads/2025/12/Opion-1.jpg
END:VEVENT
END:VCALENDAR