BEGIN:VCALENDAR
VERSION:2.0
PRODID:-//Trang tin nội bộ của Kaopiz Holdings - ECPv6.2.5//NONSGML v1.0//EN
CALSCALE:GREGORIAN
METHOD:PUBLISH
X-WR-CALNAME:Trang tin nội bộ của Kaopiz Holdings
X-ORIGINAL-URL:https://news.kaopiz.com
X-WR-CALDESC:Events for Trang tin nội bộ của Kaopiz Holdings
REFRESH-INTERVAL;VALUE=DURATION:PT1H
X-Robots-Tag:noindex
X-PUBLISHED-TTL:PT1H
BEGIN:VTIMEZONE
TZID:Asia/Krasnoyarsk
BEGIN:STANDARD
TZOFFSETFROM:+0700
TZOFFSETTO:+0700
TZNAME:+07
DTSTART:20230101T000000
END:STANDARD
TZID:UTC
BEGIN:STANDARD
TZOFFSETFROM:+0000
TZOFFSETTO:+0000
TZNAME:UTC
DTSTART:20230101T000000
END:STANDARD
END:VTIMEZONE
BEGIN:VEVENT
DTSTART;TZID=Asia/Krasnoyarsk:20231106T175000
DTEND;TZID=Asia/Krasnoyarsk:20231106T185000
DTSTAMP:20260422T191117
CREATED:20231120T200955Z
LAST-MODIFIED:20231120T201858Z
UID:10000008-1699293000-1699296600@news.kaopiz.com
SUMMARY:Khai giảng lớp “Yoga căn bản” cho người mới bắt đầu
DESCRIPTION:Nếu bạn gõ từ khóa lợi ích của yoga trên google thì sau 0.31s bạn sẽ nhận được hơn 5 triệu kết quả.  Yoga không chỉ là hoạt động thể chất mà còn mang ý nghĩa tinh thần và tâm linh\, bao gồm sự giác ngộ\, thiền định\, kiểm soát hơi thở và chánh niệm. \nThực hiện các tư thế trong yoga mang lại nhiều lợi ích đối với sức khỏe tổng thể. Theo nhiều nghiên cứu\, yoga giúp giải tỏa stress\, giúp người tập phấn chấn và vui vẻ hơn\, một số tư thế yoga giúp xua tan mọi lo âu\, căng thẳng\, nhờ đó mà hệ miễn dịch bạn cũng được cải thiện\, chống lại bệnh tật. Yoga ngày càng trở nên phổ biến và được giới văn phòng yêu thích không chỉ những tác dụng tuyệt vời với cột sống\, lưng\, vai mà còn bởi  chúng ta có thể tập luyện trong không gian không cần quá rộng với yêu cầu cao về cơ sở vật chất như những bộ môn khác. \nChính bởi những ích lợi của yoga đối với sức khỏe đó mà bắt đầu từ ngày 06/11\, lớp YOGA CĂN BẢN dành cho người mới bắt đầu sẽ chính thức khai giảng tại Kaopiz \nLớp học diễn ra từ 17h50 – 18h50 các ngày thứ 2\, thứ 3 và thứ 5 hàng tuần. \nHọc phí ghi danh: 1.200.000 VNĐ/người/buổi \nLớp được dẫn dắt bởi cô Yoga Mộc Hương – người đã có gần 10 năm kinh nghiệm giảng dạy yoga tại các cơ quan\, công sở. \nLớp học không phân biệt giới tính độ tuổi nên các Kaopizers nào muốn tham gia thì vui lòng inbox LinhNN – Phòng HCNS (0987913744) để được hỗ trợ ghi danh nhé! \n\n\n\n            Nếu thấy hay\, hãy thả một like nhé!                                                                                                                                                            0                                                                                                                                                                                                                                                    0                                                                                                                                                                                                                                                    0                                                                                                                                                                                                                                                    0                                                                                                                                                                                                                                                    0                                                                                                                                                                                                                                                    0                                                                                                                                                                                                                                                    0
URL:https://news.kaopiz.com/event/khai-giang-lop-yoga-can-ban-cho-nguoi-moi-bat-dau/
LOCATION:Khu vực sinh hoạt chung
ATTACH;FMTTYPE=image/png:https://news.kaopiz.com/wp-content/uploads/2023/11/yoga-.png
END:VEVENT
BEGIN:VEVENT
DTSTART;TZID=UTC:20231124T130000
DTEND;TZID=UTC:20231124T130000
DTSTAMP:20260422T191117
CREATED:20231123T022201Z
LAST-MODIFIED:20241224T043745Z
UID:10000010-1700830800-1700830800@news.kaopiz.com
SUMMARY:F5 Time - tháng 11/2023
DESCRIPTION:Cứ vào thứ sáu cuối cùng của mỗi tháng\, người Kaopiz lại có hẹn với nhau tại chương trình F5 Time. \nĐến với F5 Time\, chúng mình sẽ được cùng nhau thưởng thức những món đồ uống thơm ngon\, bổ dưỡng và quan trọng là nó hoàn toàn miễn phí. Đồ uống sẽ được biệt đội F5 Team trao đến tận tay từng người. Các Kaopizers hãy tranh thủ vừa nghe bản tin radio\, vừa thư giãn để cùng refresh lại bản thân sau những ngày làm việc căng thẳng và lên dây cót cho một tháng mới sắp tới nha. \nHãy lên lịch để tham gia cuộc hẹn thứ 6 này cùng F5 Time bạn nhé! 😉 \n            Nếu thấy hay\, hãy thả một like nhé!                                                                                                                                                            0                                                                                                                                                                                                                                                    0                                                                                                                                                                                                                                                    0                                                                                                                                                                                                                                                    0                                                                                                                                                                                                                                                    0                                                                                                                                                                                                                                                    0                                                                                                                                                                                                                                                    0
URL:https://news.kaopiz.com/event/f5-time-thang-11-2023/
LOCATION:Khu vực sinh hoạt chung
ATTACH;FMTTYPE=image/png:https://news.kaopiz.com/wp-content/uploads/2023/11/F5-Time-Thang-11.png
END:VEVENT
BEGIN:VEVENT
DTSTART;VALUE=DATE:20231125
DTEND;VALUE=DATE:20231127
DTSTAMP:20260422T191117
CREATED:20231122T201811Z
LAST-MODIFIED:20231122T202204Z
UID:10000009-1700870400-1701043199@news.kaopiz.com
SUMMARY:Innovation Day 2023
DESCRIPTION:Hội nghị chiến lược Innovation Day là sự kiện thường niên được tổ chức 1 năm 1 lần với sự tham gia của  đội ngũ lãnh đạo\, quản lý và các key member tại Kaopiz. Innovation Day được tổ chức với mong muốn huy động sức mạnh trí tuệ tập thể trong việc đưa ra những cải cách về chính sách và chương trình hành động cụ thể\, là tiền đề cho những thay đổi tích cực trong hoạt động của công ty\, tạo ra hiệu quả đột phá trong mọi mặt sản xuất\, kinh doanh của Kaopiz.  \nNăm 2023 là năm thứ 4 liên tiếp Innovation Day được tổ chức ở Hà Nội với sự tham gia của gần 50 anh chị đến từ tất cả các đơn vị thành viên trong hệ sinh thái Kaopiz.  Hội nghị năm nay được tổ chức trong 2 ngày từ ngày 25 đến ngày 26/11 tới đây với 7 phiên thảo luận về các chủ đề nóng nhất hiện nay tại Kaopiz.   \nHy vọng rằng\, Innovation Day 2023 sẽ là bệ phóng để đưa Kaopiz vượt trội hơn trong năm 2024 – năm kỷ niệm 10 năm thành lập công ty.   \n            Nếu thấy hay\, hãy thả một like nhé!                                                                                                                                                            0                                                                                                                                                                                                                                                    0                                                                                                                                                                                                                                                    0                                                                                                                                                                                                                                                    0                                                                                                                                                                                                                                                    0                                                                                                                                                                                                                                                    0                                                                                                                                                                                                                                                    0
URL:https://news.kaopiz.com/event/innovation-day-2023/
LOCATION:Khách sạn Hyatt Regency West Hanoi\, 36 Lê Đức Thọ\, Mỹ Đình\, Nam Từ Liêm\, Hà Nội\, Viet Nam
ATTACH;FMTTYPE=image/png:https://news.kaopiz.com/wp-content/uploads/2023/11/inno.png
END:VEVENT
END:VCALENDAR