BEGIN:VCALENDAR
VERSION:2.0
PRODID:-//Trang tin nội bộ của Kaopiz Holdings - ECPv6.2.5//NONSGML v1.0//EN
CALSCALE:GREGORIAN
METHOD:PUBLISH
X-ORIGINAL-URL:https://news.kaopiz.com
X-WR-CALDESC:Events for Trang tin nội bộ của Kaopiz Holdings
REFRESH-INTERVAL;VALUE=DURATION:PT1H
X-Robots-Tag:noindex
X-PUBLISHED-TTL:PT1H
BEGIN:VTIMEZONE
TZID:UTC
BEGIN:STANDARD
TZOFFSETFROM:+0000
TZOFFSETTO:+0000
TZNAME:UTC
DTSTART:20240101T000000
END:STANDARD
END:VTIMEZONE
BEGIN:VEVENT
DTSTART;TZID=UTC:20240105T140000
DTEND;TZID=UTC:20240105T153000
DTSTAMP:20260422T154834
CREATED:20240112T010650Z
LAST-MODIFIED:20240112T010726Z
UID:10000012-1704463200-1704468600@news.kaopiz.com
SUMMARY:TỔNG KẾT NĂM 2023
DESCRIPTION:Đến hẹn lại lên\, thứ sáu đầu tiên của năm mới không chỉ là dịp để tất cả chúng ta cùng hội tụ với nhau tại gala New Year Party mà còn là dịp toàn bộ Ban lãnh đạo và CBNV sẽ cùng ngồi lại với nhau để nhìn lại những thành quả\, những dấu ấn mà chúng ta đã đạt được trong năm cũ vừa qua.Phòng HCNS xin trân trọng kính mời toàn thể CBNV Kaopiz tham dự chương trình Tổng kết năm 2023\, được tổ chức như sau:\n Thời gian: 14h00 – 15h30 – thứ 6 ngày 5/1/2024 (ngày mai)\n Địa điểm: Văn phòng công ty (khu vực giữa văn phòng kéo dài đến hết văn phòng 2)\n Chủ trì: CEO. Lê Văn Hoàng\n Yêu cầu: Toàn bộ CBNV đang làm việc tại Văn phòng Hà Nội đều phải có mặt. Chi nhánh Đà Nẵng tham dự online qua Teams \nBuổi chiều ngày mai\, CBNV có thể về sớm từ 16h00 để chuẩn bị cho đêm Gala vào 18h30.\nLưu ý: CBNV nghỉ sớm theo sắp xếp của PM/ trưởng bộ phận để tránh ảnh hưởng công việc dự án \n            Nếu thấy hay\, hãy thả một like nhé!                                                                                                                                                            0                                                                                                                                                                                                                                                    0                                                                                                                                                                                                                                                    0                                                                                                                                                                                                                                                    0                                                                                                                                                                                                                                                    0                                                                                                                                                                                                                                                    0                                                                                                                                                                                                                                                    0
URL:https://news.kaopiz.com/event/tong-ket-nam-2023/
LOCATION:Khu vực sinh hoạt chung
ATTACH;FMTTYPE=image/jpeg:https://news.kaopiz.com/wp-content/uploads/2024/01/tong-ket-nam.jpg
END:VEVENT
BEGIN:VEVENT
DTSTART;TZID=UTC:20240105T183000
DTEND;TZID=UTC:20240105T213000
DTSTAMP:20260422T154834
CREATED:20231227T025848Z
LAST-MODIFIED:20241224T043632Z
UID:10000011-1704479400-1704490200@news.kaopiz.com
SUMMARY:New Year Party 2024: Be-amazing Year
DESCRIPTION:Năm 2023 đã sắp sửa khép lại. Để chuẩn bị cho năm 2024 – năm đánh dấu chặng đường 10 năm của Kaopiz  với thật nhiều năng lượng tích cực cùng những thành công mới\, Ban lãnh đạo công ty trân trọng kính mời toàn thể CBNV và người thân cùng tham dự bữa tiệc New year Party 2024 với chủ đề “Be-amazing year”.   \nThông tin cụ thể như sau: \nThời gian: 18h00 – 21h30\, thứ sáu ngày 05/01/2024 \nĐịa điểm: Phòng Phương Tây – tầng 3\, nhà hàng Vạn Hoa\, 89 Lê Đức Thọ\, Mỹ Đình\, Nam Từ Liêm\, Hà Nội\nDresscode: Trắng\, hồng \n            Nếu thấy hay\, hãy thả một like nhé!                                                                                                                                                            0                                                                                                                                                                                                                                                    0                                                                                                                                                                                                                                                    0                                                                                                                                                                                                                                                    0                                                                                                                                                                                                                                                    0                                                                                                                                                                                                                                                    0                                                                                                                                                                                                                                                    0
URL:https://news.kaopiz.com/event/new-year-party-2024-be-amazing-year/
LOCATION:Nhà hàng Vạn Hoa\, 89 Lê Đức Thọ\, Mỹ Đình\, Nam Từ Liêm\, Hà Nội\, Viet Nam
ATTACH;FMTTYPE=image/png:https://news.kaopiz.com/wp-content/uploads/2023/12/Bia-group.png
END:VEVENT
END:VCALENDAR