BEGIN:VCALENDAR
VERSION:2.0
PRODID:-//Trang tin nội bộ của Kaopiz Holdings - ECPv6.2.5//NONSGML v1.0//EN
CALSCALE:GREGORIAN
METHOD:PUBLISH
X-ORIGINAL-URL:https://news.kaopiz.com
X-WR-CALDESC:Events for Trang tin nội bộ của Kaopiz Holdings
REFRESH-INTERVAL;VALUE=DURATION:PT1H
X-Robots-Tag:noindex
X-PUBLISHED-TTL:PT1H
BEGIN:VTIMEZONE
TZID:Asia/Krasnoyarsk
BEGIN:STANDARD
TZOFFSETFROM:+0700
TZOFFSETTO:+0700
TZNAME:+07
DTSTART:20240101T000000
END:STANDARD
END:VTIMEZONE
BEGIN:VEVENT
DTSTART;TZID=Asia/Krasnoyarsk:20240308T170000
DTEND;TZID=Asia/Krasnoyarsk:20240308T180000
DTSTAMP:20260422T120415
CREATED:20240306T034445Z
LAST-MODIFIED:20241224T043639Z
UID:10000013-1709917200-1709920800@news.kaopiz.com
SUMMARY:Private show: Gót hồng
DESCRIPTION:Nếu thấy hay\, hãy thả một like nhé!                                                                                                                                                            0                                                                                                                                                                                                                                                    0                                                                                                                                                                                                                                                    0                                                                                                                                                                                                                                                    0                                                                                                                                                                                                                                                    0                                                                                                                                                                                                                                                    0                                                                                                                                                                                                                                                    0
URL:https://news.kaopiz.com/event/private-show-got-hong/
LOCATION:Phòng INFINITY
ATTACH;FMTTYPE=image/jpeg:https://news.kaopiz.com/wp-content/uploads/2024/03/thu-moi-got-hong-1.jpg
END:VEVENT
END:VCALENDAR