BEGIN:VCALENDAR
VERSION:2.0
PRODID:-//Trang tin nội bộ của Kaopiz Holdings - ECPv6.2.5//NONSGML v1.0//EN
CALSCALE:GREGORIAN
METHOD:PUBLISH
X-WR-CALNAME:Trang tin nội bộ của Kaopiz Holdings
X-ORIGINAL-URL:https://news.kaopiz.com
X-WR-CALDESC:Events for Trang tin nội bộ của Kaopiz Holdings
REFRESH-INTERVAL;VALUE=DURATION:PT1H
X-Robots-Tag:noindex
X-PUBLISHED-TTL:PT1H
BEGIN:VTIMEZONE
TZID:Asia/Krasnoyarsk
BEGIN:STANDARD
TZOFFSETFROM:+0700
TZOFFSETTO:+0700
TZNAME:+07
DTSTART:20240101T000000
END:STANDARD
END:VTIMEZONE
BEGIN:VEVENT
DTSTART;TZID=Asia/Krasnoyarsk:20240921T160000
DTEND;TZID=Asia/Krasnoyarsk:20240921T190000
DTSTAMP:20260422T003237
CREATED:20240919T061939Z
LAST-MODIFIED:20240926T062132Z
UID:10000018-1726934400-1726945200@news.kaopiz.com
SUMMARY:Chung kết Giải bóng đá nội bộ Unleash The Warrior 2024
DESCRIPTION:Nếu thấy hay\, hãy thả một like nhé!                                                                                                                                                            0                                                                                                                                                                                                                                                    0                                                                                                                                                                                                                                                    0                                                                                                                                                                                                                                                    0                                                                                                                                                                                                                                                    0                                                                                                                                                                                                                                                    0                                                                                                                                                                                                                                                    0
URL:https://news.kaopiz.com/event/chung-ket-giai-bong-da-noi-bo-unleash-the-warrior-2024/
LOCATION:Sân bóng AKKA – 68 Đại lộ Chu Văn An\, Hoàng Mai\, Hà Nội
ATTACH;FMTTYPE=image/jpeg:https://news.kaopiz.com/wp-content/uploads/2024/09/z5849758805744_3b6aa4a2fe0c9915bd40d71226704c03.jpg
END:VEVENT
BEGIN:VEVENT
DTSTART;VALUE=DATE:20240929
DTEND;VALUE=DATE:20240930
DTSTAMP:20260422T003237
CREATED:20240926T061700Z
LAST-MODIFIED:20240926T062221Z
UID:10000017-1727568000-1727654399@news.kaopiz.com
SUMMARY:LỄ KỶ NIỆM 10 NĂM THÀNH LẬP KAOPIZ HOLDINGS
DESCRIPTION:Nếu thấy hay\, hãy thả một like nhé!                                                                                                                                                            0                                                                                                                                                                                                                                                    0                                                                                                                                                                                                                                                    0                                                                                                                                                                                                                                                    0                                                                                                                                                                                                                                                    0                                                                                                                                                                                                                                                    0                                                                                                                                                                                                                                                    0
URL:https://news.kaopiz.com/event/4962/
LOCATION:Trung tâm Hội nghị Quốc gia\, 57 đường Phạm Hùng\, Hà Nội\, Nam Từ Liêm
ATTACH;FMTTYPE=image/png:https://news.kaopiz.com/wp-content/uploads/2024/09/poster-tivi.png
END:VEVENT
END:VCALENDAR