BEGIN:VCALENDAR
VERSION:2.0
PRODID:-//Trang tin nội bộ của Kaopiz Holdings - ECPv6.2.5//NONSGML v1.0//EN
CALSCALE:GREGORIAN
METHOD:PUBLISH
X-ORIGINAL-URL:https://news.kaopiz.com
X-WR-CALDESC:Events for Trang tin nội bộ của Kaopiz Holdings
REFRESH-INTERVAL;VALUE=DURATION:PT1H
X-Robots-Tag:noindex
X-PUBLISHED-TTL:PT1H
BEGIN:VTIMEZONE
TZID:Asia/Krasnoyarsk
BEGIN:STANDARD
TZOFFSETFROM:+0700
TZOFFSETTO:+0700
TZNAME:+07
DTSTART:20250101T000000
END:STANDARD
END:VTIMEZONE
BEGIN:VEVENT
DTSTART;TZID=Asia/Krasnoyarsk:20250307T170000
DTEND;TZID=Asia/Krasnoyarsk:20250307T180000
DTSTAMP:20260421T143302
CREATED:20250305T084918Z
LAST-MODIFIED:20250305T084949Z
UID:10000020-1741366800-1741370400@news.kaopiz.com
SUMMARY:Minishow "Dành cho Em"
DESCRIPTION:Nếu thấy hay\, hãy thả một like nhé!                                                                                                                                                            0                                                                                                                                                                                                                                                    0                                                                                                                                                                                                                                                    0                                                                                                                                                                                                                                                    0                                                                                                                                                                                                                                                    0                                                                                                                                                                                                                                                    0                                                                                                                                                                                                                                                    0
URL:https://news.kaopiz.com/event/minishow-danh-cho-em/
LOCATION:Phòng INFINITY
ATTACH;FMTTYPE=image/png:https://news.kaopiz.com/wp-content/uploads/2025/03/Danh-cho-Em.png
END:VEVENT
BEGIN:VEVENT
DTSTART;TZID=Asia/Krasnoyarsk:20250317T173000
DTEND;TZID=Asia/Krasnoyarsk:20250317T180000
DTSTAMP:20260421T143302
CREATED:20250326T065320Z
LAST-MODIFIED:20250327T034642Z
UID:10000025-1742232600-1742234400@news.kaopiz.com
SUMMARY:Khai mạc Kaopiz Esport Tournament 2025
DESCRIPTION:Nếu thấy hay\, hãy thả một like nhé!                                                                                                                                                            0                                                                                                                                                                                                                                                    0                                                                                                                                                                                                                                                    0                                                                                                                                                                                                                                                    0                                                                                                                                                                                                                                                    0                                                                                                                                                                                                                                                    0                                                                                                                                                                                                                                                    0
URL:https://news.kaopiz.com/event/khai-mac-kaopiz-esport-tournament-2025/
LOCATION:Phòng INFINITY
ATTACH;FMTTYPE=image/jpeg:https://news.kaopiz.com/wp-content/uploads/2025/03/DSC02464-scaled.jpg
END:VEVENT
BEGIN:VEVENT
DTSTART;TZID=Asia/Krasnoyarsk:20250322T150000
DTEND;TZID=Asia/Krasnoyarsk:20250322T170000
DTSTAMP:20260421T143302
CREATED:20250326T041433Z
LAST-MODIFIED:20250326T064938Z
UID:10000023-1742655600-1742662800@news.kaopiz.com
SUMMARY:Chung kết LOL - Kaopiz Esport Tournament 2025
DESCRIPTION:Nếu thấy hay\, hãy thả một like nhé!                                                                                                                                                            0                                                                                                                                                                                                                                                    0                                                                                                                                                                                                                                                    0                                                                                                                                                                                                                                                    0                                                                                                                                                                                                                                                    0                                                                                                                                                                                                                                                    0                                                                                                                                                                                                                                                    0
URL:https://news.kaopiz.com/event/chung-ket-lol-kaopiz-esport-tournament-2025/
LOCATION:Khu vực sinh hoạt chung
ATTACH;FMTTYPE=image/png:https://news.kaopiz.com/wp-content/uploads/2025/03/1-10.png
END:VEVENT
BEGIN:VEVENT
DTSTART;TZID=Asia/Krasnoyarsk:20250325T173000
DTEND;TZID=Asia/Krasnoyarsk:20250325T183000
DTSTAMP:20260421T143302
CREATED:20250326T040836Z
LAST-MODIFIED:20250326T065527Z
UID:10000021-1742923800-1742927400@news.kaopiz.com
SUMMARY:Bán kết AOV - Kaopiz Esport Tournament 2025
DESCRIPTION:Nếu thấy hay\, hãy thả một like nhé!                                                                                                                                                            0                                                                                                                                                                                                                                                    0                                                                                                                                                                                                                                                    0                                                                                                                                                                                                                                                    0                                                                                                                                                                                                                                                    0                                                                                                                                                                                                                                                    0                                                                                                                                                                                                                                                    0
URL:https://news.kaopiz.com/event/ban-ket-aov-kaopiz-esport-tournament-2025/
LOCATION:Khu vực sinh hoạt chung
ATTACH;FMTTYPE=image/jpeg:https://news.kaopiz.com/wp-content/uploads/2025/03/DSC02998-scaled.jpg
END:VEVENT
BEGIN:VEVENT
DTSTART;TZID=Asia/Krasnoyarsk:20250326T173000
DTEND;TZID=Asia/Krasnoyarsk:20250326T190000
DTSTAMP:20260421T143302
CREATED:20250326T041214Z
LAST-MODIFIED:20250326T064717Z
UID:10000022-1743010200-1743015600@news.kaopiz.com
SUMMARY:Chung kết PES - Kaopiz Esport Tournament 2025
DESCRIPTION:Nếu thấy hay\, hãy thả một like nhé!                                                                                                                                                            0                                                                                                                                                                                                                                                    0                                                                                                                                                                                                                                                    0                                                                                                                                                                                                                                                    0                                                                                                                                                                                                                                                    0                                                                                                                                                                                                                                                    0                                                                                                                                                                                                                                                    0
URL:https://news.kaopiz.com/event/chung-ket-pes-kaopiz-esport-tournament-2025/
LOCATION:Khu vực sinh hoạt chung
ATTACH;FMTTYPE=image/png:https://news.kaopiz.com/wp-content/uploads/2025/03/1-12.png
END:VEVENT
BEGIN:VEVENT
DTSTART;TZID=Asia/Krasnoyarsk:20250327T173000
DTEND;TZID=Asia/Krasnoyarsk:20250327T183000
DTSTAMP:20260421T143302
CREATED:20250327T034505Z
LAST-MODIFIED:20250327T034505Z
UID:10000027-1743096600-1743100200@news.kaopiz.com
SUMMARY:Chung kết AOV - Kaopiz Esport Tournament 2025
DESCRIPTION:Nếu thấy hay\, hãy thả một like nhé!                                                                                                                                                            0                                                                                                                                                                                                                                                    0                                                                                                                                                                                                                                                    0                                                                                                                                                                                                                                                    0                                                                                                                                                                                                                                                    0                                                                                                                                                                                                                                                    0                                                                                                                                                                                                                                                    0
URL:https://news.kaopiz.com/event/chung-ket-aov-kaopiz-esport-tournament-2025/
LOCATION:Khu vực sinh hoạt chung
ATTACH;FMTTYPE=image/png:https://news.kaopiz.com/wp-content/uploads/2025/03/TLE.png
END:VEVENT
BEGIN:VEVENT
DTSTART;TZID=Asia/Krasnoyarsk:20250329T090000
DTEND;TZID=Asia/Krasnoyarsk:20250329T120000
DTSTAMP:20260421T143302
CREATED:20250326T072844Z
LAST-MODIFIED:20250326T075800Z
UID:10000026-1743238800-1743249600@news.kaopiz.com
SUMMARY:Khóa học Clean Code
DESCRIPTION:Nếu thấy hay\, hãy thả một like nhé!                                                                                                                                                            0                                                                                                                                                                                                                                                    0                                                                                                                                                                                                                                                    0                                                                                                                                                                                                                                                    0                                                                                                                                                                                                                                                    0                                                                                                                                                                                                                                                    0                                                                                                                                                                                                                                                    0
URL:https://news.kaopiz.com/event/clean-code/
LOCATION:Phòng INFINITY
ATTACH;FMTTYPE=image/png:https://news.kaopiz.com/wp-content/uploads/2025/03/Clean-Code.png
END:VEVENT
END:VCALENDAR