BEGIN:VCALENDAR
VERSION:2.0
PRODID:-//Trang tin nội bộ của Kaopiz Holdings - ECPv6.2.5//NONSGML v1.0//EN
CALSCALE:GREGORIAN
METHOD:PUBLISH
X-WR-CALNAME:Trang tin nội bộ của Kaopiz Holdings
X-ORIGINAL-URL:https://news.kaopiz.com
X-WR-CALDESC:Events for Trang tin nội bộ của Kaopiz Holdings
REFRESH-INTERVAL;VALUE=DURATION:PT1H
X-Robots-Tag:noindex
X-PUBLISHED-TTL:PT1H
BEGIN:VTIMEZONE
TZID:Asia/Krasnoyarsk
BEGIN:STANDARD
TZOFFSETFROM:+0700
TZOFFSETTO:+0700
TZNAME:+07
DTSTART:20260101T000000
END:STANDARD
END:VTIMEZONE
BEGIN:VEVENT
DTSTART;VALUE=DATE:20260215
DTEND;VALUE=DATE:20260216
DTSTAMP:20260420T183419
CREATED:20260211T064747Z
LAST-MODIFIED:20260211T064747Z
UID:10000046-1771113600-1771199999@news.kaopiz.com
SUMMARY:Giữ lửa Tết Việt
DESCRIPTION:Nếu thấy hay\, hãy thả một like nhé!                                                                                                                                                            0                                                                                                                                                                                                                                                    0                                                                                                                                                                                                                                                    0                                                                                                                                                                                                                                                    0                                                                                                                                                                                                                                                    0                                                                                                                                                                                                                                                    0                                                                                                                                                                                                                                                    0
URL:https://news.kaopiz.com/event/giu-lua-tet-viet/
LOCATION:tokyo
ATTACH;FMTTYPE=image/jpeg:https://news.kaopiz.com/wp-content/uploads/2026/02/483446655_1178419764073732_1896180162127781659_n.jpg
END:VEVENT
BEGIN:VEVENT
DTSTART;TZID=Asia/Krasnoyarsk:20260223T083000
DTEND;TZID=Asia/Krasnoyarsk:20260223T093000
DTSTAMP:20260420T183419
CREATED:20260211T065142Z
LAST-MODIFIED:20260301T092254Z
UID:10000047-1771835400-1771839000@news.kaopiz.com
SUMMARY:Tiệc khai Xuân "Khởi sắc 2026"
DESCRIPTION:Nếu thấy hay\, hãy thả một like nhé!                                                                                                                                                            0                                                                                                                                                                                                                                                    0                                                                                                                                                                                                                                                    0                                                                                                                                                                                                                                                    0                                                                                                                                                                                                                                                    0                                                                                                                                                                                                                                                    0                                                                                                                                                                                                                                                    0
URL:https://news.kaopiz.com/event/tiec-khai-xuan-khoi-sac-2026/
LOCATION:Khu vực sinh hoạt chung
ATTACH;FMTTYPE=image/png:https://news.kaopiz.com/wp-content/uploads/2026/02/theme-su-kien.png
END:VEVENT
END:VCALENDAR