BEGIN:VCALENDAR
VERSION:2.0
PRODID:-//Trang tin nội bộ của Kaopiz Holdings - ECPv6.2.5//NONSGML v1.0//EN
CALSCALE:GREGORIAN
METHOD:PUBLISH
X-WR-CALNAME:Trang tin nội bộ của Kaopiz Holdings
X-ORIGINAL-URL:https://news.kaopiz.com
X-WR-CALDESC:Events for Trang tin nội bộ của Kaopiz Holdings
REFRESH-INTERVAL;VALUE=DURATION:PT1H
X-Robots-Tag:noindex
X-PUBLISHED-TTL:PT1H
BEGIN:VTIMEZONE
TZID:Asia/Krasnoyarsk
BEGIN:STANDARD
TZOFFSETFROM:+0700
TZOFFSETTO:+0700
TZNAME:+07
DTSTART:20260101T000000
END:STANDARD
END:VTIMEZONE
BEGIN:VEVENT
DTSTART;TZID=Asia/Krasnoyarsk:20260306T170000
DTEND;TZID=Asia/Krasnoyarsk:20260306T183000
DTSTAMP:20260420T165231
CREATED:20260303T022320Z
LAST-MODIFIED:20260309T041514Z
UID:10000048-1772816400-1772821800@news.kaopiz.com
SUMMARY:Mini show "Tình K trao em"
DESCRIPTION:Nếu thấy hay\, hãy thả một like nhé!                                                                                                                                                            0                                                                                                                                                                                                                                                    0                                                                                                                                                                                                                                                    0                                                                                                                                                                                                                                                    0                                                                                                                                                                                                                                                    0                                                                                                                                                                                                                                                    0                                                                                                                                                                                                                                                    0
URL:https://news.kaopiz.com/event/mini-show-tinh-k-trao-em/
LOCATION:Tầng 6 – Tòa CT1\, C14 Bắc Hà
ATTACH;FMTTYPE=image/png:https://news.kaopiz.com/wp-content/uploads/2026/03/1.png
END:VEVENT
BEGIN:VEVENT
DTSTART;TZID=Asia/Krasnoyarsk:20260314T080000
DTEND;TZID=Asia/Krasnoyarsk:20260315T170000
DTSTAMP:20260420T165231
CREATED:20260303T040836Z
LAST-MODIFIED:20260303T040836Z
UID:10000049-1773475200-1773594000@news.kaopiz.com
SUMMARY:Esport Spring 2026
DESCRIPTION:Nếu thấy hay\, hãy thả một like nhé!                                                                                                                                                            0                                                                                                                                                                                                                                                    0                                                                                                                                                                                                                                                    0                                                                                                                                                                                                                                                    0                                                                                                                                                                                                                                                    0                                                                                                                                                                                                                                                    0                                                                                                                                                                                                                                                    0
URL:https://news.kaopiz.com/event/esport-spring-2026/
LOCATION:Spartacus Gaming Center – 8 Quang Trung\, Hà Đông
ATTACH;FMTTYPE=image/jpeg:https://news.kaopiz.com/wp-content/uploads/2026/03/esport-2026.jpg
END:VEVENT
BEGIN:VEVENT
DTSTART;TZID=Asia/Krasnoyarsk:20260321T080000
DTEND;TZID=Asia/Krasnoyarsk:20260321T120000
DTSTAMP:20260420T165231
CREATED:20260313T030950Z
LAST-MODIFIED:20260313T030950Z
UID:10000050-1774080000-1774094400@news.kaopiz.com
SUMMARY:UET Job Fairs 2026
DESCRIPTION:Nếu thấy hay\, hãy thả một like nhé!                                                                                                                                                            0                                                                                                                                                                                                                                                    0                                                                                                                                                                                                                                                    0                                                                                                                                                                                                                                                    0                                                                                                                                                                                                                                                    0                                                                                                                                                                                                                                                    0                                                                                                                                                                                                                                                    0
URL:https://news.kaopiz.com/event/uet-job-fairs-2026/
LOCATION:Trường Đại học Công nghệ – Đại học Quốc gia Hà Nội
ATTACH;FMTTYPE=image/jpeg:https://news.kaopiz.com/wp-content/uploads/2026/03/486427760_1188743703041338_1463882357448161201_n-1.jpg
END:VEVENT
BEGIN:VEVENT
DTSTART;TZID=Asia/Krasnoyarsk:20260324T080000
DTEND;TZID=Asia/Krasnoyarsk:20260324T120000
DTSTAMP:20260420T165231
CREATED:20260313T031314Z
LAST-MODIFIED:20260313T031314Z
UID:10000052-1774339200-1774353600@news.kaopiz.com
SUMMARY:Phenikaa Career Fair 2026
DESCRIPTION:Nếu thấy hay\, hãy thả một like nhé!                                                                                                                                                            0                                                                                                                                                                                                                                                    0                                                                                                                                                                                                                                                    0                                                                                                                                                                                                                                                    0                                                                                                                                                                                                                                                    0                                                                                                                                                                                                                                                    0                                                                                                                                                                                                                                                    0
URL:https://news.kaopiz.com/event/phenikaa-career-fair-2026/
LOCATION:Đại học Phenikaa\, P. Nguyễn Trác\, Yên Nghĩa\, Hà Đông\, Hà Nội\, Vietnam
ATTACH;FMTTYPE=image/jpeg:https://news.kaopiz.com/wp-content/uploads/2026/03/481223031_1164264695489239_7810104152855039765_n.jpg
END:VEVENT
BEGIN:VEVENT
DTSTART;TZID=Asia/Krasnoyarsk:20260325T090000
DTEND;TZID=Asia/Krasnoyarsk:20260325T113000
DTSTAMP:20260420T165231
CREATED:20260313T033146Z
LAST-MODIFIED:20260313T033146Z
UID:10000053-1774429200-1774438200@news.kaopiz.com
SUMMARY:Kaopiz x HAUI - Company Tour 2026
DESCRIPTION:Nếu thấy hay\, hãy thả một like nhé!                                                                                                                                                            0                                                                                                                                                                                                                                                    0                                                                                                                                                                                                                                                    0                                                                                                                                                                                                                                                    0                                                                                                                                                                                                                                                    0                                                                                                                                                                                                                                                    0                                                                                                                                                                                                                                                    0
URL:https://news.kaopiz.com/event/kaopiz-x-haui-company-tour-2026/
LOCATION:Phòng INFINITY
ATTACH;FMTTYPE=image/jpeg:https://news.kaopiz.com/wp-content/uploads/2026/03/484170147_1177783414137367_1907606076511207925_n.jpg
END:VEVENT
BEGIN:VEVENT
DTSTART;TZID=Asia/Krasnoyarsk:20260328T080000
DTEND;TZID=Asia/Krasnoyarsk:20260328T170000
DTSTAMP:20260420T165231
CREATED:20260313T031108Z
LAST-MODIFIED:20260313T031108Z
UID:10000051-1774684800-1774717200@news.kaopiz.com
SUMMARY:SoICT - Innovation Day 2026
DESCRIPTION:Nếu thấy hay\, hãy thả một like nhé!                                                                                                                                                            0                                                                                                                                                                                                                                                    0                                                                                                                                                                                                                                                    0                                                                                                                                                                                                                                                    0                                                                                                                                                                                                                                                    0                                                                                                                                                                                                                                                    0                                                                                                                                                                                                                                                    0
URL:https://news.kaopiz.com/event/soict-innovation-day-2026/
LOCATION:Trường Công nghệ Thông tin & Truyền thông – Đại học Bách Khoa Hà Nội
ATTACH;FMTTYPE=image/jpeg:https://news.kaopiz.com/wp-content/uploads/2026/03/605536701_1408250934423946_3006505340166899313_n.jpg
END:VEVENT
BEGIN:VEVENT
DTSTART;TZID=Asia/Krasnoyarsk:20260328T080000
DTEND;TZID=Asia/Krasnoyarsk:20260418T170000
DTSTAMP:20260420T165231
CREATED:20260415T020304Z
LAST-MODIFIED:20260415T020304Z
UID:10000056-1774684800-1776531600@news.kaopiz.com
SUMMARY:Giải bóng đá Vinasa Football Championship 2026
DESCRIPTION:Nếu thấy hay\, hãy thả một like nhé!                                                                                                                                                            0                                                                                                                                                                                                                                                    0                                                                                                                                                                                                                                                    0                                                                                                                                                                                                                                                    0                                                                                                                                                                                                                                                    0                                                                                                                                                                                                                                                    0                                                                                                                                                                                                                                                    0
URL:https://news.kaopiz.com/event/giai-bong-da-vinasa-football-championship-2026/
LOCATION:Sân bóng Nguyên Dương\, Mễ Trì\, Hà Nội
ATTACH;FMTTYPE=image/png:https://news.kaopiz.com/wp-content/uploads/2026/03/vinasa.png
END:VEVENT
END:VCALENDAR