BEGIN:VCALENDAR
VERSION:2.0
PRODID:-//Trang tin nội bộ của Kaopiz Holdings - ECPv6.2.5//NONSGML v1.0//EN
CALSCALE:GREGORIAN
METHOD:PUBLISH
X-WR-CALNAME:Trang tin nội bộ của Kaopiz Holdings
X-ORIGINAL-URL:https://news.kaopiz.com
X-WR-CALDESC:Events for Trang tin nội bộ của Kaopiz Holdings
REFRESH-INTERVAL;VALUE=DURATION:PT1H
X-Robots-Tag:noindex
X-PUBLISHED-TTL:PT1H
BEGIN:VTIMEZONE
TZID:Asia/Krasnoyarsk
BEGIN:STANDARD
TZOFFSETFROM:+0700
TZOFFSETTO:+0700
TZNAME:+07
DTSTART:20250101T000000
END:STANDARD
END:VTIMEZONE
BEGIN:VEVENT
DTSTART;TZID=Asia/Krasnoyarsk:20251205T080000
DTEND;TZID=Asia/Krasnoyarsk:20251205T110000
DTSTAMP:20260420T220106
CREATED:20251205T092654Z
LAST-MODIFIED:20251205T092654Z
UID:10000042-1764921600-1764932400@news.kaopiz.com
SUMMARY:Lễ kí Biên bản ghi nhớ hợp tác giữa Kaopiz và Viện Công nghệ và Kinh tế số\, ĐH Bách Khoa Hà Nội
DESCRIPTION:Nếu thấy hay\, hãy thả một like nhé!                                                                                                                                                            0                                                                                                                                                                                                                                                    0                                                                                                                                                                                                                                                    0                                                                                                                                                                                                                                                    0                                                                                                                                                                                                                                                    0                                                                                                                                                                                                                                                    0                                                                                                                                                                                                                                                    0
URL:https://news.kaopiz.com/event/le-ki-bien-ban-ghi-nho-hop-tac-giua-kaopiz-va-vien-cong-nghe-va-kinh-te-so-dh-bach-khoa-ha-noi/
ATTACH;FMTTYPE=image/jpeg:https://news.kaopiz.com/wp-content/uploads/2025/12/untitled-187-scaled.jpg
END:VEVENT
END:VCALENDAR